BEGIN:VCALENDAR
VERSION:2.0
PRODID:-//Faith Baptist Church - ECPv6.15.20//NONSGML v1.0//EN
CALSCALE:GREGORIAN
METHOD:PUBLISH
X-ORIGINAL-URL:https://www.faithbaptistyuma.com
X-WR-CALDESC:Events for Faith Baptist Church
REFRESH-INTERVAL;VALUE=DURATION:PT1H
X-Robots-Tag:noindex
X-PUBLISHED-TTL:PT1H
BEGIN:VTIMEZONE
TZID:America/Phoenix
BEGIN:STANDARD
TZOFFSETFROM:-0700
TZOFFSETTO:-0700
TZNAME:MST
DTSTART:20250101T000000
END:STANDARD
END:VTIMEZONE
BEGIN:VEVENT
DTSTART;TZID=America/Phoenix:20260124T090000
DTEND;TZID=America/Phoenix:20260124T103000
DTSTAMP:20260423T093314
CREATED:20251229T174536Z
LAST-MODIFIED:20260103T192744Z
UID:2823-1769245200-1769250600@www.faithbaptistyuma.com
SUMMARY:Men's Breakfast
DESCRIPTION:
URL:https://www.faithbaptistyuma.com/event/mens-breakfast-2/
END:VEVENT
BEGIN:VEVENT
DTSTART;TZID=America/Phoenix:20260204T100000
DTEND;TZID=America/Phoenix:20260204T110000
DTSTAMP:20260423T093314
CREATED:20260202T160904Z
LAST-MODIFIED:20260202T160904Z
UID:2830-1770199200-1770202800@www.faithbaptistyuma.com
SUMMARY:Coffee with Pastor
DESCRIPTION:
URL:https://www.faithbaptistyuma.com/event/coffee-with-pastor/
END:VEVENT
BEGIN:VEVENT
DTSTART;TZID=America/Phoenix:20260207T083000
DTEND;TZID=America/Phoenix:20260207T143000
DTSTAMP:20260423T093314
CREATED:20260202T160707Z
LAST-MODIFIED:20260202T160707Z
UID:2826-1770453000-1770474600@www.faithbaptistyuma.com
SUMMARY:Farmers' Market Outreach
DESCRIPTION:
URL:https://www.faithbaptistyuma.com/event/farmers-market-outreach-2/
END:VEVENT
BEGIN:VEVENT
DTSTART;TZID=America/Phoenix:20260218T180000
DTEND;TZID=America/Phoenix:20260218T193000
DTSTAMP:20260423T093314
CREATED:20251114T174013Z
LAST-MODIFIED:20251114T174013Z
UID:2805-1771437600-1771443000@www.faithbaptistyuma.com
SUMMARY:Awana Team Night
DESCRIPTION:
URL:https://www.faithbaptistyuma.com/event/awana-team-night/
LOCATION:Education Building
CATEGORIES:Awana
END:VEVENT
BEGIN:VEVENT
DTSTART;TZID=America/Phoenix:20260220T180000
DTEND;TZID=America/Phoenix:20260220T200000
DTSTAMP:20260423T093314
CREATED:20260202T160810Z
LAST-MODIFIED:20260202T160810Z
UID:2828-1771610400-1771617600@www.faithbaptistyuma.com
SUMMARY:Couples' Night Out
DESCRIPTION:
URL:https://www.faithbaptistyuma.com/event/couples-night-out/
END:VEVENT
BEGIN:VEVENT
DTSTART;TZID=America/Phoenix:20260304T100000
DTEND;TZID=America/Phoenix:20260304T110000
DTSTAMP:20260423T093314
CREATED:20260202T161010Z
LAST-MODIFIED:20260202T161010Z
UID:2832-1772618400-1772622000@www.faithbaptistyuma.com
SUMMARY:Coffee with Pastor
DESCRIPTION:
URL:https://www.faithbaptistyuma.com/event/coffee-with-pastor-2/
LOCATION:Fellowship Hall
END:VEVENT
BEGIN:VEVENT
DTSTART;TZID=America/Phoenix:20260307T083000
DTEND;TZID=America/Phoenix:20260307T143000
DTSTAMP:20260423T093314
CREATED:20260202T161053Z
LAST-MODIFIED:20260202T161053Z
UID:2834-1772872200-1772893800@www.faithbaptistyuma.com
SUMMARY:Farmers' Market Outreach
DESCRIPTION:
URL:https://www.faithbaptistyuma.com/event/farmers-market-outreach-3/
END:VEVENT
BEGIN:VEVENT
DTSTART;TZID=America/Phoenix:20260321T080000
DTEND;TZID=America/Phoenix:20260321T110000
DTSTAMP:20260423T093314
CREATED:20260316T180547Z
LAST-MODIFIED:20260316T180547Z
UID:2898-1774080000-1774090800@www.faithbaptistyuma.com
SUMMARY:Jesus Jog
DESCRIPTION:
URL:https://www.faithbaptistyuma.com/event/jesus-jog/
LOCATION:West Wetlands Park
END:VEVENT
BEGIN:VEVENT
DTSTART;TZID=America/Phoenix:20260322T103000
DTEND;TZID=America/Phoenix:20260322T113000
DTSTAMP:20260423T093314
CREATED:20260202T161340Z
LAST-MODIFIED:20260302T163212Z
UID:2837-1774175400-1774179000@www.faithbaptistyuma.com
SUMMARY:I Love My Church Sunday & Picnic
DESCRIPTION:
URL:https://www.faithbaptistyuma.com/event/i-love-my-church-sunday/
END:VEVENT
BEGIN:VEVENT
DTSTART;TZID=America/Phoenix:20260401T100000
DTEND;TZID=America/Phoenix:20260401T110000
DTSTAMP:20260423T093314
CREATED:20260202T161827Z
LAST-MODIFIED:20260202T161827Z
UID:2845-1775037600-1775041200@www.faithbaptistyuma.com
SUMMARY:Coffee with Pastor
DESCRIPTION:
URL:https://www.faithbaptistyuma.com/event/coffee-with-pastor-3/
END:VEVENT
BEGIN:VEVENT
DTSTART;TZID=America/Phoenix:20260404T083000
DTEND;TZID=America/Phoenix:20260404T143000
DTSTAMP:20260423T093314
CREATED:20260202T161742Z
LAST-MODIFIED:20260202T161742Z
UID:2843-1775291400-1775313000@www.faithbaptistyuma.com
SUMMARY:Farmers' Market
DESCRIPTION:
URL:https://www.faithbaptistyuma.com/event/farmers-market/
END:VEVENT
BEGIN:VEVENT
DTSTART;TZID=America/Phoenix:20260411T100000
DTEND;TZID=America/Phoenix:20260411T130000
DTSTAMP:20260423T093314
CREATED:20260202T161523Z
LAST-MODIFIED:20260202T161523Z
UID:2839-1775901600-1775912400@www.faithbaptistyuma.com
SUMMARY:Awana Grand Prix Garage
DESCRIPTION:
URL:https://www.faithbaptistyuma.com/event/awana-grand-prix-garage/
LOCATION:Fellowship Hall
END:VEVENT
BEGIN:VEVENT
DTSTART;TZID=America/Phoenix:20260418T080000
DTEND;TZID=America/Phoenix:20260418T153000
DTSTAMP:20260423T093314
CREATED:20260316T180702Z
LAST-MODIFIED:20260316T180702Z
UID:2901-1776499200-1776526200@www.faithbaptistyuma.com
SUMMARY:Childrens' Festival of the Arts
DESCRIPTION:
URL:https://www.faithbaptistyuma.com/event/childrens-festival-of-the-arts/
LOCATION:Main Street Yuma
CATEGORIES:Children's Ministry
END:VEVENT
BEGIN:VEVENT
DTSTART;TZID=America/Phoenix:20260419T170000
DTEND;TZID=America/Phoenix:20260419T180000
DTSTAMP:20260423T093314
CREATED:20260202T161558Z
LAST-MODIFIED:20260202T161558Z
UID:2841-1776618000-1776621600@www.faithbaptistyuma.com
SUMMARY:Awana Grand Prix
DESCRIPTION:
URL:https://www.faithbaptistyuma.com/event/awana-grand-prix/
END:VEVENT
BEGIN:VEVENT
DTSTART;TZID=America/Phoenix:20260502T083000
DTEND;TZID=America/Phoenix:20260502T143000
DTSTAMP:20260423T093314
CREATED:20260202T162514Z
LAST-MODIFIED:20260202T162514Z
UID:2855-1777710600-1777732200@www.faithbaptistyuma.com
SUMMARY:Farmers' Market
DESCRIPTION:
URL:https://www.faithbaptistyuma.com/event/farmers-market-2/
END:VEVENT
BEGIN:VEVENT
DTSTART;VALUE=DATE:20260507
DTEND;VALUE=DATE:20260508
DTSTAMP:20260423T093314
CREATED:20260202T162134Z
LAST-MODIFIED:20260202T162157Z
UID:2849-1778112000-1778198399@www.faithbaptistyuma.com
SUMMARY:National Day of Prayer
DESCRIPTION:
URL:https://www.faithbaptistyuma.com/event/national-day-of-prayer/
END:VEVENT
BEGIN:VEVENT
DTSTART;TZID=America/Phoenix:20260513T180000
DTEND;TZID=America/Phoenix:20260513T193000
DTSTAMP:20260423T093314
CREATED:20251114T174228Z
LAST-MODIFIED:20251114T174228Z
UID:2809-1778695200-1778700600@www.faithbaptistyuma.com
SUMMARY:Awana Awards Night
DESCRIPTION:
URL:https://www.faithbaptistyuma.com/event/awana-awards-night/
LOCATION:Main Auditorium
CATEGORIES:Awana
END:VEVENT
BEGIN:VEVENT
DTSTART;TZID=America/Phoenix:20260516T100000
DTEND;TZID=America/Phoenix:20260516T140000
DTSTAMP:20260423T093314
CREATED:20260202T162039Z
LAST-MODIFIED:20260406T171750Z
UID:2847-1778925600-1778940000@www.faithbaptistyuma.com
SUMMARY:Ladies' Conference
DESCRIPTION:
URL:https://www.faithbaptistyuma.com/event/ladies-refresher/
LOCATION:Fellowship Hall
END:VEVENT
BEGIN:VEVENT
DTSTART;TZID=America/Phoenix:20260525T080000
DTEND;TZID=America/Phoenix:20260525T170000
DTSTAMP:20260423T093314
CREATED:20260202T162248Z
LAST-MODIFIED:20260202T162248Z
UID:2851-1779696000-1779728400@www.faithbaptistyuma.com
SUMMARY:Memorial Day Picnic
DESCRIPTION:
URL:https://www.faithbaptistyuma.com/event/memorial-day-picnic/
END:VEVENT
BEGIN:VEVENT
DTSTART;TZID=America/Phoenix:20260603T100000
DTEND;TZID=America/Phoenix:20260603T110000
DTSTAMP:20260423T093314
CREATED:20260202T162612Z
LAST-MODIFIED:20260202T162612Z
UID:2857-1780480800-1780484400@www.faithbaptistyuma.com
SUMMARY:Coffee with Pastor
DESCRIPTION:
URL:https://www.faithbaptistyuma.com/event/coffee-with-pastor-4/
LOCATION:Fellowship Hall
END:VEVENT
BEGIN:VEVENT
DTSTART;TZID=America/Phoenix:20260622T180000
DTEND;TZID=America/Phoenix:20260626T200000
DTSTAMP:20260423T093314
CREATED:20260202T162352Z
LAST-MODIFIED:20260202T162352Z
UID:2853-1782151200-1782504000@www.faithbaptistyuma.com
SUMMARY:Vacation Bible School
DESCRIPTION:
URL:https://www.faithbaptistyuma.com/event/vacation-bible-school/
END:VEVENT
BEGIN:VEVENT
DTSTART;TZID=America/Phoenix:20260701T100000
DTEND;TZID=America/Phoenix:20260701T110000
DTSTAMP:20260423T093314
CREATED:20260202T162654Z
LAST-MODIFIED:20260202T162654Z
UID:2859-1782900000-1782903600@www.faithbaptistyuma.com
SUMMARY:Coffee with Pastor
DESCRIPTION:
URL:https://www.faithbaptistyuma.com/event/coffee-with-pastor-5/
LOCATION:Fellowship Hall
END:VEVENT
BEGIN:VEVENT
DTSTART;TZID=America/Phoenix:20260802T103000
DTEND;TZID=America/Phoenix:20260802T113000
DTSTAMP:20260423T093314
CREATED:20260202T162814Z
LAST-MODIFIED:20260202T162814Z
UID:2863-1785666600-1785670200@www.faithbaptistyuma.com
SUMMARY:Back to School Sunday
DESCRIPTION:
URL:https://www.faithbaptistyuma.com/event/back-to-school-sunday/
END:VEVENT
BEGIN:VEVENT
DTSTART;TZID=America/Phoenix:20260805T100000
DTEND;TZID=America/Phoenix:20260805T110000
DTSTAMP:20260423T093314
CREATED:20260202T162743Z
LAST-MODIFIED:20260202T162743Z
UID:2861-1785924000-1785927600@www.faithbaptistyuma.com
SUMMARY:Coffee with Pastor
DESCRIPTION:
URL:https://www.faithbaptistyuma.com/event/coffee-with-pastor-6/
LOCATION:Fellowship Hall
END:VEVENT
BEGIN:VEVENT
DTSTART;TZID=America/Phoenix:20260826T180000
DTEND;TZID=America/Phoenix:20260826T193000
DTSTAMP:20260423T093314
CREATED:20260202T163308Z
LAST-MODIFIED:20260202T163308Z
UID:2865-1787767200-1787772600@www.faithbaptistyuma.com
SUMMARY:Awana Begins
DESCRIPTION:
URL:https://www.faithbaptistyuma.com/event/awana-begins/
LOCATION:Education Building
END:VEVENT
BEGIN:VEVENT
DTSTART;TZID=America/Phoenix:20260902T100000
DTEND;TZID=America/Phoenix:20260902T110000
DTSTAMP:20260423T093314
CREATED:20260202T163445Z
LAST-MODIFIED:20260202T163445Z
UID:2867-1788343200-1788346800@www.faithbaptistyuma.com
SUMMARY:Coffee with Pastor
DESCRIPTION:
URL:https://www.faithbaptistyuma.com/event/coffee-with-pastor-7/
LOCATION:Fellowship Hall
END:VEVENT
BEGIN:VEVENT
DTSTART;TZID=America/Phoenix:20260906T170000
DTEND;TZID=America/Phoenix:20260906T180000
DTSTAMP:20260423T093314
CREATED:20260202T163542Z
LAST-MODIFIED:20260202T163542Z
UID:2869-1788714000-1788717600@www.faithbaptistyuma.com
SUMMARY:Labor Day BBQ & Chili Cook-Off
DESCRIPTION:
URL:https://www.faithbaptistyuma.com/event/labor-day-bbq-chili-cook-off/
LOCATION:Fellowship Hall
END:VEVENT
BEGIN:VEVENT
DTSTART;TZID=America/Phoenix:20261007T100000
DTEND;TZID=America/Phoenix:20261007T110000
DTSTAMP:20260423T093314
CREATED:20260202T163633Z
LAST-MODIFIED:20260202T163633Z
UID:2871-1791367200-1791370800@www.faithbaptistyuma.com
SUMMARY:Coffee with Pastor
DESCRIPTION:
URL:https://www.faithbaptistyuma.com/event/coffee-with-pastor-8/
LOCATION:Fellowship Hall
END:VEVENT
BEGIN:VEVENT
DTSTART;VALUE=DATE:20261018
DTEND;VALUE=DATE:20261021
DTSTAMP:20260423T093314
CREATED:20260202T163708Z
LAST-MODIFIED:20260202T163708Z
UID:2873-1792281600-1792540799@www.faithbaptistyuma.com
SUMMARY:Missions Conference
DESCRIPTION:
URL:https://www.faithbaptistyuma.com/event/missions-conference/
END:VEVENT
BEGIN:VEVENT
DTSTART;TZID=America/Phoenix:20261024T180000
DTEND;TZID=America/Phoenix:20261024T200000
DTSTAMP:20260423T093314
CREATED:20260202T163741Z
LAST-MODIFIED:20260202T163741Z
UID:2875-1792864800-1792872000@www.faithbaptistyuma.com
SUMMARY:Fall Carnival
DESCRIPTION:
URL:https://www.faithbaptistyuma.com/event/fall-carnival/
END:VEVENT
END:VCALENDAR