BEGIN:VCALENDAR
VERSION:2.0
PRODID:-//Faith Baptist Church - ECPv6.15.20//NONSGML v1.0//EN
CALSCALE:GREGORIAN
METHOD:PUBLISH
X-ORIGINAL-URL:https://www.faithbaptistyuma.com
X-WR-CALDESC:Events for Faith Baptist Church
REFRESH-INTERVAL;VALUE=DURATION:PT1H
X-Robots-Tag:noindex
X-PUBLISHED-TTL:PT1H
BEGIN:VTIMEZONE
TZID:America/Phoenix
BEGIN:STANDARD
TZOFFSETFROM:-0700
TZOFFSETTO:-0700
TZNAME:MST
DTSTART:20250101T000000
END:STANDARD
END:VTIMEZONE
BEGIN:VEVENT
DTSTART;TZID=America/Phoenix:20260513T180000
DTEND;TZID=America/Phoenix:20260513T193000
DTSTAMP:20260423T072104
CREATED:20251114T174228Z
LAST-MODIFIED:20251114T174228Z
UID:2809-1778695200-1778700600@www.faithbaptistyuma.com
SUMMARY:Awana Awards Night
DESCRIPTION:
URL:https://www.faithbaptistyuma.com/event/awana-awards-night/
LOCATION:Main Auditorium
CATEGORIES:Awana
END:VEVENT
END:VCALENDAR